BEGIN:VCALENDAR
VERSION:2.0
PRODID:-//hacksw/handcal//NONSGML v1.0//EN
BEGIN:VEVENT
UID:c9f8a6f5dfc5a1ff3ad48b017cd180a9
DTSTAMP:20260421T113201Z

DTSTART:20260429T000000
DTEND:20260429T000000
SUMMARY: Faire, inklusive und sorgende Stadt  Neue Perspektiven für eine geschlechtergerechte Planung
DESCRIPTION:Ort: Online |\nMit der Frage, wie Städte so gestaltet werden, dass sie den Bedürfnissen aller Menschen gerecht werden, beschäftigt sich die geschlechtergerechte und diversitätssensible Stadtplanung. Sie zielt darauf ab, vielfältige Lebensrealitäten und Bedürfnisse sichtbar zu machen und in die Planung einzubeziehen – um Städte „lebenswert“ zu gestalten.\nIm Fokus steht dabei die gerechte Verteilung von Raum, Ressourcen und Teilhabechancen. Unterschiedliche Perspektiven zeigen sich in der Nutzung und Aneignung öffentlicher Räume, in Ansprüchen an Wohnen und Arbeiten, im Mobilitätsverhalten, Sicherheitsempfinden oder in den Anforderungen aus der Care-Arbeit. Zugleich wird deutlich, dass Geschlecht nur eine von vielen Dimensionen sozialer Ungleichheit ist und Stadtplanung die Lebenssituationen aller Einwohner:innen berücksichtigen muss.\nDas Seminar lädt dazu ein, Stadtentwicklung aus dieser erweiterten Perspektive kennenzulernen und zu diskutieren. Aufbauend auf den Leitlinien für eine gendergerechte Stadtentwicklungspolitik des Bundesministeriums für Wohnen, Stadtentwicklung und Bauwesen (BMWSB) werden Ziele, Herausforderungen und Praxisbeispiele vorgestellt. Gemeinsam wird diskutiert, wie Sorgearbeit, soziale Teilhabe, Inklusion und Sicherheit stärker in Planungsprozesse einfließen können – von der Gestaltung öffentlicher Räume über Mobilität bis hin zu Wohnen und Daseinsvorsorge.\nMehr Informationen

X-ALT-DESC;FMTTYPE=text/html:<!DOCTYPE HTML PUBLIC "-//W3C//DTD HTML 3.2//EN">\n<HTML>\n<HEAD>\n<META NAME="Generator" CONTENT="MS Exchange Server version 08.00.0681.000">\n<TITLE></TITLE>\n</HEAD>\n<BODY>\n<!-- Converted from text/rtf format -->\n\n<p>Ort: Online |</p><br /><p>Mit der Frage, wie Städte so gestaltet werden, dass sie den Bedürfnissen aller Menschen gerecht werden, beschäftigt sich die geschlechtergerechte und diversitätssensible Stadtplanung. Sie zielt darauf ab, vielfältige Lebensrealitäten und Bedürfnisse sichtbar zu machen und in die Planung einzubeziehen – um Städte „lebenswert“ zu gestalten.</p><br /><p>Im Fokus steht dabei die gerechte Verteilung von Raum, Ressourcen und Teilhabechancen. Unterschiedliche Perspektiven zeigen sich in der Nutzung und Aneignung öffentlicher Räume, in Ansprüchen an Wohnen und Arbeiten, im Mobilitätsverhalten, Sicherheitsempfinden oder in den Anforderungen aus der Care-Arbeit. Zugleich wird deutlich, dass Geschlecht nur eine von vielen Dimensionen sozialer Ungleichheit ist und Stadtplanung die Lebenssituationen aller Einwohner:innen berücksichtigen muss.</p><br /><p>Das Seminar lädt dazu ein, Stadtentwicklung aus dieser erweiterten Perspektive kennenzulernen und zu diskutieren. Aufbauend auf den Leitlinien für eine gendergerechte Stadtentwicklungspolitik des Bundesministeriums für Wohnen, Stadtentwicklung und Bauwesen (BMWSB) werden Ziele, Herausforderungen und Praxisbeispiele vorgestellt. Gemeinsam wird diskutiert, wie Sorgearbeit, soziale Teilhabe, Inklusion und Sicherheit stärker in Planungsprozesse einfließen können – von der Gestaltung öffentlicher Räume über Mobilität bis hin zu Wohnen und Daseinsvorsorge.</p><br /><p><strong><a href="https://difu.de/veranstaltungen/2026-04-29/faire-inklusive-und-sorgende-stadt" target="_blank" rel="noopener">Mehr Informationen</a></strong></p>\n\n</BODY>\n</HTML>

LOCATION:
END:VEVENT

END:VCALENDAR
