BEGIN:VCALENDAR
VERSION:2.0
PRODID:-//hacksw/handcal//NONSGML v1.0//EN
BEGIN:VEVENT
UID:092de847834ab44591cb8b81df590df2
DTSTAMP:20260420T143054Z

DTSTART:20260326T100000
DTEND:20260326T170000
SUMMARY:Kommunales Infrastruktur-Management - Finanzierung der Transformation der kommunalen Infrastrukturen zur Klimaneutralität
DESCRIPTION:Ort: Berlin |\nWie können Städte und Gemeinden die Transformation zur Klimaneutralität finanzieren? Am 26. März 2026 findet in Berlin die Konferenz „Kommunales Infrastruktur-Management“ (KIM) statt. Im Mittelpunkt der Veranstaltung stehen die finanziellen, rechtlichen und institutionellen Rahmenbedingungen für die Transformation kommunaler Infrastrukturen hin zur Klimaneutralität. Der Deutsche Städte- und Gemeindebund wird sich insbesondere in die Diskussion zu Kapitalbedarfen und Kapitalbereitstellung für kommunale Unternehmen einbringen.\nVor dem Hintergrund eines erheblichen Sanierungsstaus in zentralen Infrastrukturbereichen sowie wachsender Anforderungen an die Resilienz der kommunalen Daseinsvorsorge werden insbesondere Fragen des Finanzierungs- und Kapitalbedarfs kommunaler Unternehmen und auf kommunaler Ebene tätiger privater Unternehmen diskutiert. Thematisiert werden unter anderem die mögliche Rolle des Deutschlandfonds, die durch die Kommunalordnungen der Länder gesetzten Möglichkeiten und Restriktionen der Kapitalaufnahme, die Bedeutung des Sondervermögens Infrastruktur und Klimaneutralität (SVIK) sowie weitergehende Reformoptionen, etwa im Bereich der Haushalts- und Schuldenregeln.\nVeranstaltet wird die Konferenz von der Bauhaus-Universität Weimar, der Ruhr-Universität Bochum und der Hochschule für Technik und Wirtschaft Berlin (HTW Berlin). An der Diskussion beteiligt sich auch der Deutsche Städte- und Gemeindebund, vertreten durch den Beigeordneten Timm Fuchs. Kooperationspartner und Sponsor der Veranstaltung ist der Bundesverband Öffentliche Dienstleistungen (bvöd).\nDie Konferenz richtet sich an kommunale Praktikerinnen und Praktiker aus Verwaltung, Politik und kommunalen Unternehmen sowie an Wissenschaft und Verbände. Die Teilnahme ist kostenfrei; eine Anmeldung ist bis spätestens 13. März 2026 erforderlich (begrenzte Plätze).\nMehr Informationen

X-ALT-DESC;FMTTYPE=text/html:<!DOCTYPE HTML PUBLIC "-//W3C//DTD HTML 3.2//EN">\n<HTML>\n<HEAD>\n<META NAME="Generator" CONTENT="MS Exchange Server version 08.00.0681.000">\n<TITLE></TITLE>\n</HEAD>\n<BODY>\n<!-- Converted from text/rtf format -->\n\n<p>Ort: Berlin |</p><br /><p class="paragraph"><strong>Wie können Städte und Gemeinden die Transformation zur Klimaneutralität finanzieren? Am 26. März 2026 findet in Berlin die Konferenz „Kommunales Infrastruktur-Management“ (KIM) statt. Im Mittelpunkt der Veranstaltung stehen die finanziellen, rechtlichen und institutionellen Rahmenbedingungen für die Transformation kommunaler Infrastrukturen hin zur Klimaneutralität. Der Deutsche Städte- und Gemeindebund wird sich insbesondere in die Diskussion zu Kapitalbedarfen und Kapitalbereitstellung für kommunale Unternehmen einbringen.</strong></p><br /><p class="paragraph">Vor dem Hintergrund eines erheblichen Sanierungsstaus in zentralen Infrastrukturbereichen sowie wachsender Anforderungen an die Resilienz der kommunalen Daseinsvorsorge werden insbesondere Fragen des Finanzierungs- und Kapitalbedarfs kommunaler Unternehmen und auf kommunaler Ebene tätiger privater Unternehmen diskutiert. Thematisiert werden unter anderem die mögliche Rolle des Deutschlandfonds, die durch die Kommunalordnungen der Länder gesetzten Möglichkeiten und Restriktionen der Kapitalaufnahme, die Bedeutung des Sondervermögens Infrastruktur und Klimaneutralität (SVIK) sowie weitergehende Reformoptionen, etwa im Bereich der Haushalts- und Schuldenregeln.</p><br /><p class="paragraph">Veranstaltet wird die Konferenz von der Bauhaus-Universität Weimar, der Ruhr-Universität Bochum und der Hochschule für Technik und Wirtschaft Berlin (HTW Berlin). An der Diskussion beteiligt sich auch der Deutsche Städte- und Gemeindebund, vertreten durch den Beigeordneten Timm Fuchs. Kooperationspartner und Sponsor der Veranstaltung ist der Bundesverband Öffentliche Dienstleistungen (bvöd).</p><br /><p class="paragraph">Die Konferenz richtet sich an kommunale Praktikerinnen und Praktiker aus Verwaltung, Politik und kommunalen Unternehmen sowie an Wissenschaft und Verbände. Die Teilnahme ist kostenfrei; eine Anmeldung ist bis spätestens <strong>13. März 2026</strong> erforderlich (begrenzte Plätze).</p><br /><p class="paragraph"><strong><a href="https://www.uni-weimar.de/fileadmin/user/fak/bauing/professuren_institute/Infrastrukturwirtschaft_und-management/Tagungen/2026_03_26-kim_2026/KIM---konferenz_kommunales_infrastruktur-management---26-03-2026---programm.pdf" target="_blank" rel="noopener">Mehr Informationen</a></strong></p>\n\n</BODY>\n</HTML>

LOCATION:91, Invalidenstraße, Charitéviertel, Mitte, Berlin, 10115, Deutschland
END:VEVENT

END:VCALENDAR
