BEGIN:VCALENDAR
VERSION:2.0
PRODID:-//hacksw/handcal//NONSGML v1.0//EN
BEGIN:VEVENT
UID:bcd8c4c4c65cc77fd52554d57e2d97e7
DTSTAMP:20260421T113036Z

DTSTART:20260519T093000
DTEND:20260520T180000
SUMMARY:„Anschluss erreichen“: Die Konferenz für Radparken, E-Scooter und Fußverkehr
DESCRIPTION:Ort: Berlin |\nWie gelingt es, an jedem Bahnhof in Deutschland attraktive und funktionierende Anschlussmobilität zu schaffen – für Radfahrende, E‑Scooter-Nutzende und zu Fuß Gehende gleichermaßen? Diese Frage steht im Zentrum der zweitägigen Konferenz „Anschluss erreichen – Die Konferenz für Radparken, E-Scooter und Fußverkehr“, die am 19. und 20. Mai 2026 in den Design Offices Berlin Humboldthafen, gegenüber vom Berliner Hauptbahnhof, stattfindet.\nDas Konferenzprogramm beleuchtet Strategien und Rahmenbedingungen der Anschlussmobilität aus Sicht von Bund, Ländern und Kommunen und bietet zugleich Raum für praxisorientierten Austausch zwischen Verwaltung, Wirtschaft und Zivilgesellschaft. In Panels, Fachforen und Workshops werden Themen wie kommunale Mobilitätsplanung, bauliche Gestaltung, Förderprogramme und Betrieb von Infrastruktur zum Radparken diskutiert. Ergänzend bieten Exkursionen zu Bahnhofsvorplätzen und Fahrradparkhäusern in Berlin und Brandenburg konkrete Einblicke in gelungene Lösungen und aktuelle Herausforderungen. \nEin weiterer, besonderer Programmpunkt ist die Präsentation der Gewinner-Ideen aus dem vorgelagerten Hackathon zur Anschlussmobilität, bei dem neue Konzepte für die erste und letzte Meile entwickelt wurden.\nDie Konferenz „Anschluss erreichen“ versteht sich als Plattform für Wissenstransfer, Beratung und Vernetzung von Kommunen. Ziel ist es, konkrete Impulse für eine nachhaltige Stadt- und Mobilitätsplanung, eine effiziente Projektplanung sowie die Weiterentwicklung von Bike+Ride-Strategien am Bahnhof zu geben.\nDie Konferenz bietet damit eine wertvolle Plattform für den fachlichen Austausch und die Entwicklung zukunftsweisender Konzepte, die wirklich funktionieren.  \nMit dabei sind unter anderem der Bundesminister für Verkehr, Patrick Schnieder, sowie weitere Speaker aus Politik, Verwaltung und Praxis.\nMehr Informationen

X-ALT-DESC;FMTTYPE=text/html:<!DOCTYPE HTML PUBLIC "-//W3C//DTD HTML 3.2//EN">\n<HTML>\n<HEAD>\n<META NAME="Generator" CONTENT="MS Exchange Server version 08.00.0681.000">\n<TITLE></TITLE>\n</HEAD>\n<BODY>\n<!-- Converted from text/rtf format -->\n\n<p>Ort: Berlin |</p><br /><p>Wie gelingt es, an jedem Bahnhof in Deutschland attraktive und funktionierende Anschlussmobilität zu schaffen – für Radfahrende, E‑Scooter-Nutzende und zu Fuß Gehende gleichermaßen? Diese Frage steht im Zentrum der zweitägigen Konferenz „Anschluss erreichen – Die Konferenz für Radparken, E-Scooter und Fußverkehr“, die am 19. und 20. Mai 2026 in den Design Offices Berlin Humboldthafen, gegenüber vom Berliner Hauptbahnhof, stattfindet.</p><br /><p>Das Konferenzprogramm beleuchtet Strategien und Rahmenbedingungen der Anschlussmobilität aus Sicht von Bund, Ländern und Kommunen und bietet zugleich Raum für praxisorientierten Austausch zwischen Verwaltung, Wirtschaft und Zivilgesellschaft. In Panels, Fachforen und Workshops werden Themen wie kommunale Mobilitätsplanung, bauliche Gestaltung, Förderprogramme und Betrieb von Infrastruktur zum Radparken diskutiert. Ergänzend bieten Exkursionen zu Bahnhofsvorplätzen und Fahrradparkhäusern in Berlin und Brandenburg konkrete Einblicke in gelungene Lösungen und aktuelle Herausforderungen. </p><br /><p>Ein weiterer, besonderer Programmpunkt ist die Präsentation der Gewinner-Ideen aus dem vorgelagerten Hackathon zur Anschlussmobilität, bei dem neue Konzepte für die erste und letzte Meile entwickelt wurden.</p><br /><p>Die Konferenz „Anschluss erreichen“ versteht sich als Plattform für Wissenstransfer, Beratung und Vernetzung von Kommunen. Ziel ist es, konkrete Impulse für eine nachhaltige Stadt- und Mobilitätsplanung, eine effiziente Projektplanung sowie die Weiterentwicklung von Bike+Ride-Strategien am Bahnhof zu geben.</p><br /><p>Die Konferenz bietet damit eine wertvolle Plattform für den fachlichen Austausch und die Entwicklung zukunftsweisender Konzepte, die wirklich funktionieren.  </p><br /><p>Mit dabei sind unter anderem der Bundesminister für Verkehr, Patrick Schnieder, sowie weitere Speaker aus Politik, Verwaltung und Praxis.</p><br /><p><strong><a href="https://radparken.info/veranstaltung/konferenz-2026/" target="_blank" rel="noopener">Mehr Informationen</a></strong></p>\n\n</BODY>\n</HTML>

LOCATION:
END:VEVENT

END:VCALENDAR
