BEGIN:VCALENDAR
VERSION:2.0
PRODID:-//hacksw/handcal//NONSGML v1.0//EN
BEGIN:VEVENT
UID:e28fea84bec41e47e252f2591855aaf5
DTSTAMP:20260421T112847Z

DTSTART:20260427T100000
DTEND:20260428T120000
SUMMARY:12. kommunaler IT-Sicherheitskongress der kommunalen Spitzenverbände
DESCRIPTION:Die IT-Sicherheitslage in Deutschland ist laut BSI-Lagebericht 2025 weiterhin „angespannt“; die Angriffsflächen seien in einem „besorgniserregenden Zustand“. Öffentliche Institutionen – einschließlich der Kommunen und ihrer Unternehmen – stehen besonders im Visier von Hackern. Der 12. Kommunale IT-Sicherheitskongress der kommunalen Spitzenverbände nimmt die aktuelle Sicherheitslage zum Anlass, gemeinsam mit kommunalen Praktikern und Experten von Bund und Ländern intensiv über Prävention und Kooperation zu beraten. Am zweiten Tag der Veranstaltung schließt sich ein Workshop zum Thema KI und IT-Sicherheit in der Kommunalverwaltung an.\nDer Kongress wird über den IT-Planungsrat finanziell unterstützt und zählt zu den Leitkongressen der kommunalen Informationssicherheit in Deutschland. Dieser findet statt am 27.4.2026 von 10:00 Uhr bis ca. 17:00 Uhr und am 28.4.2026 von 09:00 Uhr bis ca. 12:00 Uhr.\nMehr Informationen

X-ALT-DESC;FMTTYPE=text/html:<!DOCTYPE HTML PUBLIC "-//W3C//DTD HTML 3.2//EN">\n<HTML>\n<HEAD>\n<META NAME="Generator" CONTENT="MS Exchange Server version 08.00.0681.000">\n<TITLE></TITLE>\n</HEAD>\n<BODY>\n<!-- Converted from text/rtf format -->\n\n<p class="paragraph">Die IT-Sicherheitslage in Deutschland ist laut BSI-Lagebericht 2025 weiterhin „angespannt“; die Angriffsflächen seien in einem „besorgniserregenden Zustand“. Öffentliche Institutionen – einschließlich der Kommunen und ihrer Unternehmen – stehen besonders im Visier von Hackern. Der 12. Kommunale IT-Sicherheitskongress der kommunalen Spitzenverbände nimmt die aktuelle Sicherheitslage zum Anlass, gemeinsam mit kommunalen Praktikern und Experten von Bund und Ländern intensiv über Prävention und Kooperation zu beraten. Am zweiten Tag der Veranstaltung schließt sich ein Workshop zum Thema<strong> </strong>KI und IT-Sicherheit in der Kommunalverwaltung an.</p><br /><p class="paragraph">Der Kongress wird über den IT-Planungsrat finanziell unterstützt und zählt zu den Leitkongressen der kommunalen Informationssicherheit in Deutschland. Dieser findet statt am<strong> </strong>27.4.2026 von 10:00 Uhr bis ca. 17:00 Uhr und am 28.4.2026 von 09:00 Uhr bis ca. 12:00 Uhr.</p><br /><p class="paragraph"><strong><a href="https://www.dstgb.de/kalender/2026-04-27-12.-kommunaler-it-sicherheitskongress-der-kommunalen-spitzenverbaende/" target="_blank" rel="noopener">Mehr Informationen</a></strong></p>\n\n</BODY>\n</HTML>

LOCATION:11, Lennéstraße, Tiergarten, Mitte, Berlin, 10785, Deutschland
END:VEVENT

END:VCALENDAR
