BEGIN:VCALENDAR
VERSION:2.0
PRODID:-//hacksw/handcal//NONSGML v1.0//EN
BEGIN:VEVENT
UID:6447b8458f0f452024e156540a7fd06d
DTSTAMP:20260421T110143Z

DTSTART:20260505T083000
DTEND:20260505T161500
SUMMARY:Kommunen aktiv für den Klimaschutz
DESCRIPTION:Ort: Bonn |\nDie 18. Klimaschutzkonferenz des DStGB bietet jenseits wichtiger Finanzierungsthemen erneut die Gelegenheit, zentrale Fragen einer zukunftsgerichteten kommunalen Klima- und Nachhaltigkeitspolitik zu erörtern und insbesondere erfolgreiche Praxisansätze miteinander zu teilen. Die Devise muss lauten: Von guten Beispielen lernen! Fortschritt entsteht vor Ort – durch engagierte Akteure, die Bürgerinnen und Bürger, durch innovative Lösungen und durch verlässliche politische Rahmenbedingungen.\nIn Vorträgen und Diskussionsforen sowie im Rahmen der begleitenden Fachausstellung können Sie erneut vielfältige kommunale Praxisbeispiele zum Klimaschutz und zur Klimaanpassung, zur Mobilitäts- und Wärmewende und zur Nachhaltigkeit kennenlernen. Auch die wichtigen Themen Waldmanagement und Energieeffizienz wollen wir in diesem Jahr beleuchten und ihre Rolle für klimaresiliente, zukunftsfähige Kommunen diskutieren. Bei alledem stehen neue und innovative Lösungsansätze immer im Mittelpunkt.\nMehr Informationen

X-ALT-DESC;FMTTYPE=text/html:<!DOCTYPE HTML PUBLIC "-//W3C//DTD HTML 3.2//EN">\n<HTML>\n<HEAD>\n<META NAME="Generator" CONTENT="MS Exchange Server version 08.00.0681.000">\n<TITLE></TITLE>\n</HEAD>\n<BODY>\n<!-- Converted from text/rtf format -->\n\n<p>Ort: Bonn |</p><br /><p>Die 18. Klimaschutzkonferenz des DStGB bietet jenseits wichtiger Finanzierungsthemen erneut die Gelegenheit, zentrale Fragen einer zukunftsgerichteten kommunalen Klima- und Nachhaltigkeitspolitik zu erörtern und insbesondere erfolgreiche Praxisansätze miteinander zu teilen. Die Devise muss lauten: Von guten Beispielen lernen! Fortschritt entsteht vor Ort – durch engagierte Akteure, die Bürgerinnen und Bürger, durch innovative Lösungen und durch verlässliche politische Rahmenbedingungen.</p><br /><p>In Vorträgen und Diskussionsforen sowie im Rahmen der begleitenden Fachausstellung können Sie erneut vielfältige kommunale Praxisbeispiele zum Klimaschutz und zur Klimaanpassung, zur Mobilitäts- und Wärmewende und zur Nachhaltigkeit kennenlernen. Auch die wichtigen Themen Waldmanagement und Energieeffizienz wollen wir in diesem Jahr beleuchten und ihre Rolle für klimaresiliente, zukunftsfähige Kommunen diskutieren. Bei alledem stehen neue und innovative Lösungsansätze immer im Mittelpunkt.</p><br /><p><strong><a href="https://www.dstgb.de/themen/klimaschutz-und-klimaanpassung/aktuelles/18-fachkonferenz-kommunen-aktiv-fuer-den-klimaschutz-am-05-mai-2026-in-bonn/klimakonferenz-bonn-dstgb-26-low10.pdf?cid=1dqm" target="_blank" rel="noopener">Mehr Informationen</a></strong></p>\n\n</BODY>\n</HTML>

LOCATION:Wissenschaftszentrum Bonn, 45, Ahrstraße, Amerikanische Siedlung, Plittersdorf, Bad Godesberg, Bonn, Nordrhein-Westfalen, 53175, Deutschland
END:VEVENT

END:VCALENDAR
