BEGIN:VCALENDAR
VERSION:2.0
PRODID:-//hacksw/handcal//NONSGML v1.0//EN
BEGIN:VEVENT
UID:be929d211c531edbb55c75b13b3b7a67
DTSTAMP:20260421T141240Z

DTSTART:20260429T103000
DTEND:20260429T114500
SUMMARY:Zukunft gestalten: Altersfreundliche Kommunen im deutschsprachigen Raum
DESCRIPTION:Ort: Online |\nVor dem Hintergrund der demografischen Entwicklungen orientiert sich eine wachsende Zahl von Kommunen am Konzept der altersfreundlichen Städte und Gemeinden der Weltgesundheitsorganisation (WHO). Auch im deutschsprachigen Raum hat sich mit einer zunehmenden Zahl an Mitgliedern im Globalen Netzwerk altersfreundlicher Städte und Gemeinden (GNAFCC) etwas in Bewegung gesetzt.\nUm den Austausch zwischen den beteiligten Kommunen und anderen interessierten Akteuren der kommunalen Altenhilfe-, Sozial- und Stadtplanung zu fördern, laden die Geschäftsstelle Internationale Altenpolitik der BAGSO – Bundesarbeitsgemeinschaft der Seniorenorganisationen in Kooperation mit dem Zukunftsraum Demografie und der Körber-Stiftung zu einem Online-Austausch ein. Dieser findet im Vorfeld des 3. Weltkongresses zu altersfreundlichen Städten und Gemeinden (16. bis 18. Juni 2026 in Donostia/San Sebastián) statt.\nZentrales Anliegen des Austauschs ist es, über das Konzept der altersfreundlichen Städte und Gemeinden zu informieren, Unterstützungsangebote für Kommunen vorzustellen sowie die Herausforderungen für interessierte Kommunen und ihre Bedarfe zu erfassen. Der Austausch richtet sich gezielt an Akteure der kommunalen Altenhilfe-, Sozial- und Stadtplanung, sowohl aus den Kommunen, die das Konzept der WHO bereits nutzen als auch aus Kommunen, die sich dafür interessieren und eine Beteiligung anstreben.\nWeitere Informationen

X-ALT-DESC;FMTTYPE=text/html:<!DOCTYPE HTML PUBLIC "-//W3C//DTD HTML 3.2//EN">\n<HTML>\n<HEAD>\n<META NAME="Generator" CONTENT="MS Exchange Server version 08.00.0681.000">\n<TITLE></TITLE>\n</HEAD>\n<BODY>\n<!-- Converted from text/rtf format -->\n\n<p>Ort: Online |</p><br /><p>Vor dem Hintergrund der demografischen Entwicklungen orientiert sich eine wachsende Zahl von Kommunen am Konzept der altersfreundlichen Städte und Gemeinden der Weltgesundheitsorganisation (WHO). Auch im deutschsprachigen Raum hat sich mit einer zunehmenden Zahl an Mitgliedern im Globalen Netzwerk altersfreundlicher Städte und Gemeinden (GNAFCC) etwas in Bewegung gesetzt.</p><br /><p>Um den Austausch zwischen den beteiligten Kommunen und anderen interessierten Akteuren der kommunalen Altenhilfe-, Sozial- und Stadtplanung zu fördern, laden die Geschäftsstelle Internationale Altenpolitik der BAGSO – Bundesarbeitsgemeinschaft der Seniorenorganisationen in Kooperation mit dem Zukunftsraum Demografie und der Körber-Stiftung zu einem Online-Austausch ein. Dieser findet im Vorfeld des 3. Weltkongresses zu altersfreundlichen Städten und Gemeinden (16. bis 18. Juni 2026 in Donostia/San Sebastián) statt.</p><br /><p>Zentrales Anliegen des Austauschs ist es, über das Konzept der altersfreundlichen Städte und Gemeinden zu informieren, Unterstützungsangebote für Kommunen vorzustellen sowie die Herausforderungen für interessierte Kommunen und ihre Bedarfe zu erfassen. Der Austausch richtet sich gezielt an Akteure der kommunalen Altenhilfe-, Sozial- und Stadtplanung, sowohl aus den Kommunen, die das Konzept der WHO bereits nutzen als auch aus Kommunen, die sich dafür interessieren und eine Beteiligung anstreben.</p><br /><p><strong><a href="https://www.bagso.de/fileadmin/user_upload/bagso/05_Veranstaltungen/2026/Programm_Online-Austausch__Zukunft_gestalten_Altersfreundliche_Kommunen_im_deutschsprachigen_Raum_.pdf" target="_blank" rel="noopener">Weitere Informationen</a></strong></p>\n\n</BODY>\n</HTML>

LOCATION:
END:VEVENT

END:VCALENDAR
