BEGIN:VCALENDAR
VERSION:2.0
PRODID:-//hacksw/handcal//NONSGML v1.0//EN
BEGIN:VEVENT
UID:f34773a9150899d34727d7586144f298
DTSTAMP:20260421T141702Z

DTSTART:20260429T084500
DTEND:20260429T153000
SUMMARY:Mit KI zur klimaresilienten Stadt – Digitale Werkzeuge für eine zukunftsfähige Stadt- und Regionalplanung
DESCRIPTION:Ort: Online |\nKünstliche Intelligenz (KI) wird zunehmend zu einem strategischen Werkzeug in der Stadt- und Regionalplanung. Gerade im Kontext von Klimaanpassung, Resilienz und nachhaltiger Transformation bieten KI-basierte Werkzeuge Planungsakteuren völlig neue Möglichkeiten, komplexe Zusammenhänge sichtbar und steuerbar zu machen.\nOb bei der Analyse klimatischer Risiken, der Bewertung städtebaulicher Maßnahmen oder der partizipativen Entwicklung von Zukunftsszenarien, KI kann große Datenmengen analysieren, optimierte Planungsentwürfe simulieren und effiziente Beteiligungsprozesse gestalten.\nDiese Fortbildungsveranstaltung beleuchtet, wie Künstliche Intelligenz dabei unterstützen kann, qualitativ hochwertige klimaresiliente Stadtquartiere zu entwickeln. Es werden konkrete Strategien vorgestellt, um die Potenziale der KI für effiziente und inklusive Planungsprozesse zu nutzen um zukunftsfähige, klimagerechte und -resiliente Quartiere und Städte zu gestalten.\nMehr Informationen

X-ALT-DESC;FMTTYPE=text/html:<!DOCTYPE HTML PUBLIC "-//W3C//DTD HTML 3.2//EN">\n<HTML>\n<HEAD>\n<META NAME="Generator" CONTENT="MS Exchange Server version 08.00.0681.000">\n<TITLE></TITLE>\n</HEAD>\n<BODY>\n<!-- Converted from text/rtf format -->\n\n<p>Ort: Online |</p><br /><p>Künstliche Intelligenz (KI) wird zunehmend zu einem strategischen Werkzeug in der Stadt- und Regionalplanung. Gerade im Kontext von Klimaanpassung, Resilienz und nachhaltiger Transformation bieten KI-basierte Werkzeuge Planungsakteuren völlig neue Möglichkeiten, komplexe Zusammenhänge sichtbar und steuerbar zu machen.</p><br /><p>Ob bei der Analyse klimatischer Risiken, der Bewertung städtebaulicher Maßnahmen oder der partizipativen Entwicklung von Zukunftsszenarien, KI kann große Datenmengen analysieren, optimierte Planungsentwürfe simulieren und effiziente Beteiligungsprozesse gestalten.</p><br /><p>Diese Fortbildungsveranstaltung beleuchtet, wie Künstliche Intelligenz dabei unterstützen kann, qualitativ hochwertige klimaresiliente Stadtquartiere zu entwickeln. Es werden konkrete Strategien vorgestellt, um die Potenziale der KI für effiziente und inklusive Planungsprozesse zu nutzen um zukunftsfähige, klimagerechte und -resiliente Quartiere und Städte zu gestalten.</p><br /><p><strong><a href="https://www.isw-isb.de/programm/39-26-mit-ki-zur-klimaresilienten-stadt-digitale-werkzeuge-fuer-eine-zukunftsfaehige-stadt-und-regionalplanung-11950" target="_blank" rel="noopener">Mehr Informationen</a></strong></p>\n\n</BODY>\n</HTML>

LOCATION:
END:VEVENT

END:VCALENDAR
