BEGIN:VCALENDAR
VERSION:2.0
PRODID:-//hacksw/handcal//NONSGML v1.0//EN
BEGIN:VEVENT
UID:eb593b5819fae02653f4551761518da3
DTSTAMP:20260421T105828Z

DTSTART:20260505T154500
DTEND:20260505T183000
SUMMARY:Bauturbo“ in kleinen Städten und Gemeinden: Transparenz und Planungssicherheit – Leitlinien für die Anwendung der neuen Instrumente
DESCRIPTION:Ort: Online |\nDas Gesetz zur Beschleunigung des Wohnungsbaus und zur Wohnraumsicherung ist nach langwierigen und kontroversen Debatten im Herbst 2025 beschlossen worden. In der medialen Öffentlichkeit vor allem mit dem Begriff „Bauturbo“ beschrieben, gehen damit umfangreiche Befreiungen im Planungsrecht einher.\nDoch die beschleunigte Umsetzung wirft auch kritische Fragen auf: Geht Schnelligkeit zulasten von Qualität, Beteiligung und langfristiger Stadtentwicklung? Fachplaner:innen, Stadtentwickler:innen und Vertreter:innen der kommunalen Praxis warnen vor überhasteten Entscheidungen, der Schwächung öffentlicher Beteiligung und der Gefahr einer funktionalen wie gestalterischen Verarmung unserer Städte.\nIn diesem Seminar stehen Leitlinien zur Anwendung des „Bauturbos“ im Fokus. Solche Leitlinien, die von der Kommune aufgestellt werden können, helfen dabei, die gewünschte Beschleunigung der Verfahren zu ermöglichen und gleichzeitig eine geordnete städtebauliche Entwicklung zu wahren. So können städtebauliche Ziele darin verankert sowie Voraussetzungen aber auch Grenzen der Genehmigung von Vorhaben dargestellt werden. Die Leitlinien können als Orientierungshilfe für die Kommune bei der Prüfung von und Entscheidung über Vorhaben dienen und gleichzeitig Zuständigkeiten, Prüfkriterien und Abläufe offenlegen – auch für den Vorhabenträger; für eine verlässliche und transparente Genehmigungspraxis.\nMehr Informationen

X-ALT-DESC;FMTTYPE=text/html:<!DOCTYPE HTML PUBLIC "-//W3C//DTD HTML 3.2//EN">\n<HTML>\n<HEAD>\n<META NAME="Generator" CONTENT="MS Exchange Server version 08.00.0681.000">\n<TITLE></TITLE>\n</HEAD>\n<BODY>\n<!-- Converted from text/rtf format -->\n\n<p>Ort: Online |</p><br /><p class="CxSpFirst">Das Gesetz zur Beschleunigung des Wohnungsbaus und zur Wohnraumsicherung ist nach langwierigen und kontroversen Debatten im Herbst 2025 beschlossen worden. In der medialen Öffentlichkeit vor allem mit dem Begriff „Bauturbo“ beschrieben, gehen damit umfangreiche Befreiungen im Planungsrecht einher.</p><br /><p class="CxSpMiddle">Doch die beschleunigte Umsetzung wirft auch kritische Fragen auf: Geht Schnelligkeit zulasten von Qualität, Beteiligung und langfristiger Stadtentwicklung? Fachplaner:innen, Stadtentwickler:innen und Vertreter:innen der kommunalen Praxis warnen vor überhasteten Entscheidungen, der Schwächung öffentlicher Beteiligung und der Gefahr einer funktionalen wie gestalterischen Verarmung unserer Städte.</p><br /><p class="CxSpMiddle">In diesem Seminar stehen Leitlinien zur Anwendung des „Bauturbos“ im Fokus. Solche Leitlinien, die von der Kommune aufgestellt werden können, helfen dabei, die gewünschte Beschleunigung der Verfahren zu ermöglichen und gleichzeitig eine geordnete städtebauliche Entwicklung zu wahren. So können städtebauliche Ziele darin verankert sowie Voraussetzungen aber auch Grenzen der Genehmigung von Vorhaben dargestellt werden. Die Leitlinien können als Orientierungshilfe für die Kommune bei der Prüfung von und Entscheidung über Vorhaben dienen und gleichzeitig Zuständigkeiten, Prüfkriterien und Abläufe offenlegen – auch für den Vorhabenträger; für eine verlässliche und transparente Genehmigungspraxis.</p><br /><p class="CxSpMiddle"><strong><a href="https://www.isw-isb.de/programm/54-26-der-bauturbo-in-kleinen-staedten-und-gemeinden-11970" target="_blank" rel="noopener">Mehr Informationen</a></strong></p>\n\n</BODY>\n</HTML>

LOCATION:
END:VEVENT

END:VCALENDAR
