BEGIN:VCALENDAR
VERSION:2.0
PRODID:-//hacksw/handcal//NONSGML v1.0//EN
BEGIN:VEVENT
UID:f0530cf7171e82b2ad350488f5e7faab
DTSTAMP:20260421T105608Z

DTSTART:20260521T100000
DTEND:20260521T123000
SUMMARY:ZKA Spezial: Hitze und Trockenheit
DESCRIPTION:Ort: Online |\nKommunen in Deutschland stehen zunehmend unter einer Doppelbelastung aus Hitze- und Trockenstress: Die durchschnittliche Anzahl heißer Tage pro Jahr in den letzten Jahrzehnten hat stetig zugenommen, städtische Hitzeinseln verschärfen diese Lage zusätzlich. Gleichzeitig treten in immer mehr Regionen auch anhaltende Niederschlagsdefizite auf. Treffen Hitze und Trockenheit aufeinander, sind die Auswirkungen für Mensch und Umwelt besonders gravierend: Sinkende Grundwasserspiegel führen zu Wasserknappheit, gesundheitliche Belastungen nehmen zu und Stadtgrün, Wälder, und Landwirtschaft erleiden massive Schäden.\nDas ZKA Spezial am Donnerstag, den 21. Mai 2026 von 10:00 – 12:30 Uhr widmet sich dem Thema Hitze und Trockenheit mit einem Fokus auf die folgenden Fragen: Welche Herausforderungen bestehen in Kommunen durch die zunehmenden Phasen von Hitzebelastung und Niederschlagsdefiziten? Welche Strategien ergreifen Kommunen, um resilienter gegenüber Hitze und Trockenheit zu werden? Und wie können konkrete Anpassungsmaßnahmen in der Praxis aussehen?\nGemeinsam mit Expert*innen möchten wir im ZKA Spezial über Lösungsansätze sprechen, die Kommunen resilienter gegenüber Hitze und Trockenheit machen. Neben Impulsvorträgen werden wir in einer moderierten Frage- und Antwortrunde auch in den aktiven Austausch gehen. Bringen Sie gerne Ihre Fragen und Erfahrungen mit ein.\nMehr Informationen

X-ALT-DESC;FMTTYPE=text/html:<!DOCTYPE HTML PUBLIC "-//W3C//DTD HTML 3.2//EN">\n<HTML>\n<HEAD>\n<META NAME="Generator" CONTENT="MS Exchange Server version 08.00.0681.000">\n<TITLE></TITLE>\n</HEAD>\n<BODY>\n<!-- Converted from text/rtf format -->\n\n<p>Ort: Online |</p><br /><p>Kommunen in Deutschland stehen zunehmend unter einer Doppelbelastung aus Hitze- und Trockenstress: Die durchschnittliche Anzahl heißer Tage pro Jahr in den letzten Jahrzehnten hat stetig zugenommen, städtische Hitzeinseln verschärfen diese Lage zusätzlich. Gleichzeitig treten in immer mehr Regionen auch anhaltende Niederschlagsdefizite auf. Treffen Hitze und Trockenheit aufeinander, sind die Auswirkungen für Mensch und Umwelt besonders gravierend: Sinkende Grundwasserspiegel führen zu Wasserknappheit, gesundheitliche Belastungen nehmen zu und Stadtgrün, Wälder, und Landwirtschaft erleiden massive Schäden.</p><br /><p>Das ZKA Spezial am Donnerstag, den 21. Mai 2026 von 10:00 – 12:30 Uhr widmet sich dem Thema Hitze und Trockenheit mit einem Fokus auf die folgenden Fragen: Welche Herausforderungen bestehen in Kommunen durch die zunehmenden Phasen von Hitzebelastung und Niederschlagsdefiziten? Welche Strategien ergreifen Kommunen, um resilienter gegenüber Hitze und Trockenheit zu werden? Und wie können konkrete Anpassungsmaßnahmen in der Praxis aussehen?</p><br /><p>Gemeinsam mit Expert*innen möchten wir im ZKA Spezial über Lösungsansätze sprechen, die Kommunen resilienter gegenüber Hitze und Trockenheit machen. Neben Impulsvorträgen werden wir in einer moderierten Frage- und Antwortrunde auch in den aktiven Austausch gehen. Bringen Sie gerne Ihre Fragen und Erfahrungen mit ein.</p><br /><p><strong><a href="https://www.deutschesklimaportal.de/SharedDocs/Termine/DE/Einrichtungen/Andere/2026/T_20260521_ZKA_Hitze_Trockenheit.html?nn=696912" target="_blank" rel="noopener">Mehr Informationen</a></strong></p>\n\n</BODY>\n</HTML>

LOCATION:
END:VEVENT

END:VCALENDAR
