BEGIN:VCALENDAR
VERSION:2.0
PRODID:-//hacksw/handcal//NONSGML v1.0//EN
BEGIN:VEVENT
UID:ef41f683951b8511f008ff95a15aa40a
DTSTAMP:20260421T105408Z

DTSTART:20260512T090000
DTEND:20260513T143000
SUMMARY:LIFE Infotage 2026
DESCRIPTION:Ort: Online |\nLIFE ist das Förderprogramm der Europäischen Union für Umwelt-, Natur- und Klimaschutz. Es unterstützt Projekte, die nachhaltige Lösungen voranbringen und Umweltpolitik in die Praxis überführen – für eine ressourcenschonende, CO₂-arme Wirtschaft und den Schutz der biologischen Vielfalt. Erfahren Sie, wer antragsberechtigt ist, welche Inhalte und Projekttypen im Fokus stehen und wie die Finanzierung ausgestaltet ist. So können Sie schnell einschätzen, ob und wie Ihre Projektidee zu LIFE passt.\nBringen Sie Ihre Ideen für Umwelt-, Klima- und Naturschutz voran. Die jährlichen Förderaufrufe des LIFE-Programms bieten vielfältige Chancen für Projekte mit europäischem Mehrwert. Informieren Sie sich jetzt über die Schwerpunkte, Anforderungen und Möglichkeiten. \nMehr Informationen

X-ALT-DESC;FMTTYPE=text/html:<!DOCTYPE HTML PUBLIC "-//W3C//DTD HTML 3.2//EN">\n<HTML>\n<HEAD>\n<META NAME="Generator" CONTENT="MS Exchange Server version 08.00.0681.000">\n<TITLE></TITLE>\n</HEAD>\n<BODY>\n<!-- Converted from text/rtf format -->\n\n<p>Ort: Online |</p><br /><p>LIFE ist das Förderprogramm der Europäischen Union für Umwelt-, Natur- und Klimaschutz. Es unterstützt Projekte, die nachhaltige Lösungen voranbringen und Umweltpolitik in die Praxis überführen – für eine ressourcenschonende, CO₂-arme Wirtschaft und den Schutz der biologischen Vielfalt. Erfahren Sie, wer antragsberechtigt ist, welche Inhalte und Projekttypen im Fokus stehen und wie die Finanzierung ausgestaltet ist. So können Sie schnell einschätzen, ob und wie Ihre Projektidee zu LIFE passt.</p><br /><p>Bringen Sie Ihre Ideen für Umwelt-, Klima- und Naturschutz voran. Die jährlichen Förderaufrufe des LIFE-Programms bieten vielfältige Chancen für Projekte mit europäischem Mehrwert. Informieren Sie sich jetzt über die Schwerpunkte, Anforderungen und Möglichkeiten. </p><br /><p><strong><a href="https://life-deutschland.de/veranstaltungen/life-infotage-2026/" target="_blank" rel="noopener">Mehr Informationen</a></strong></p>\n\n</BODY>\n</HTML>

LOCATION:
END:VEVENT

END:VCALENDAR
