BEGIN:VCALENDAR
VERSION:2.0
PRODID:-//hacksw/handcal//NONSGML v1.0//EN
BEGIN:VEVENT
UID:c21391a1829f23a959e79c39a644dd1a
DTSTAMP:20260421T110001Z

DTSTART:20260505T153000
DTEND:20260505T173000
SUMMARY:Verbunden im Alltag, getragen von Gemeinschaft: Neue Wege des Zusammenlebens im Alter – gegen Einsamkeit und für mehr Miteinander
DESCRIPTION:Ort: Online |\nLändliche Räume bieten vielfältige Chancen für ein starkes gesellschaftliches Miteinander – gerade für ältere Menschen, die dort oft über gewachsene Bindungen und ein vertrautes Umfeld verfügen. Mit zunehmendem Alter verändern sich jedoch Bedürfnisse: Nähe zu unterstützenden Angeboten, gute Nachbarschaften und verlässliche soziale Kontakte werden wichtiger. Gemeinschaftlich gestaltete Wohn- und Lebensumfelder können hier einen entscheidenden Beitrag leisten.\nOb gemeinschaftliche Wohnformen, organisierte Nachbarschaftshilfen oder niedrigschwellige Treffpunkte im Ort: Solche Strukturen erleichtern älteren Menschen Teilhabe, ermöglichen gegenseitige Unterstützung und stärken das Gefühl, eingebunden zu sein. Sie bieten Raum für Begegnung und wirken Vereinsamung entgegen.\nMit unserer neuen Online-Reihe möchten wir zeigen, welche Potenziale in gemeinschaftsorientierten Ansätzen liegen. Wir richten den Blick auf Wohnumfelder, Quartiere und Dörfer, in denen durch kreative Ideen und lokales Engagement neue Formen des Zusammenlebens entstehen. Gute Beispiele – insbesondere aus ländlichen Regionen – verdeutlichen, wie starke, verlässliche Netzwerke entstehen, in denen ältere Menschen aktiv teilhaben, sich einbringen und Unterstützung finden können.\nMehr Informationen

X-ALT-DESC;FMTTYPE=text/html:<!DOCTYPE HTML PUBLIC "-//W3C//DTD HTML 3.2//EN">\n<HTML>\n<HEAD>\n<META NAME="Generator" CONTENT="MS Exchange Server version 08.00.0681.000">\n<TITLE></TITLE>\n</HEAD>\n<BODY>\n<!-- Converted from text/rtf format -->\n\n<p>Ort: Online |</p><br /><p>Ländliche Räume bieten vielfältige Chancen für ein starkes gesellschaftliches Miteinander – gerade für ältere Menschen, die dort oft über gewachsene Bindungen und ein vertrautes Umfeld verfügen. Mit zunehmendem Alter verändern sich jedoch Bedürfnisse: Nähe zu unterstützenden Angeboten, gute Nachbarschaften und verlässliche soziale Kontakte werden wichtiger. Gemeinschaftlich gestaltete Wohn- und Lebensumfelder können hier einen entscheidenden Beitrag leisten.</p><br /><p>Ob gemeinschaftliche Wohnformen, organisierte Nachbarschaftshilfen oder niedrigschwellige Treffpunkte im Ort: Solche Strukturen erleichtern älteren Menschen Teilhabe, ermöglichen gegenseitige Unterstützung und stärken das Gefühl, eingebunden zu sein. Sie bieten Raum für Begegnung und wirken Vereinsamung entgegen.</p><br /><p>Mit unserer neuen Online-Reihe möchten wir zeigen, welche Potenziale in gemeinschaftsorientierten Ansätzen liegen. Wir richten den Blick auf Wohnumfelder, Quartiere und Dörfer, in denen durch kreative Ideen und lokales Engagement neue Formen des Zusammenlebens entstehen. Gute Beispiele – insbesondere aus ländlichen Regionen – verdeutlichen, wie starke, verlässliche Netzwerke entstehen, in denen ältere Menschen aktiv teilhaben, sich einbringen und Unterstützung finden können.</p><br /><p><strong><a href="https://www.asg-goe.de/pdf26/Wohnen-und-Vereinsamung-ASG-Seminarreihe-2026.pdf" target="_blank" rel="noopener">Mehr Informationen</a></strong></p>\n\n</BODY>\n</HTML>

LOCATION:
END:VEVENT

END:VCALENDAR
