BEGIN:VCALENDAR
VERSION:2.0
PRODID:-//hacksw/handcal//NONSGML v1.0//EN
BEGIN:VEVENT
UID:25b954184fc3c2160347c61cf47d1e7f
DTSTAMP:20260421T105359Z

DTSTART:20260521T093000
DTEND:20260521T163000
SUMMARY:Deutscher Ernährungstag 2026
DESCRIPTION:Ort: Berlin |\nDas Bundesministerium für Landwirtschaft, Ernährung und Heimat (BMLEH) lädt Sie gemeinsam mit dem Bundeszentrum für Ernährung (BZfE) herzlich zum Deutschen Ernährungstag ein. Die Veranstaltung findet am 21. Mai 2026 im Konferenzzentrum Mauerstraße 27, Berlin‑Mitte zum Thema „Lokal vernetzt – regionale Ernährung vor Ort aktiv mitgestalten“ statt.\nWarum das Thema jetzt besonders wichtig ist\nLokale‑regionale Vernetzungs‑ und Versorgungsstrukturen gewinnen an Bedeutung. Sie erhöhen die Resilienz, stärken die Versorgungssicherheit und machen unsere Heimatregionen auch attraktiver. Der direkte Kontakt zu Landwirtschaft und Produktion erhöht zudem die Wertschätzung für unsere heimischen Lebensmittel. Lokale Versorgungsnetzwerke wie zum Beispiel Dorfläden, Food-Coops oder Mittagstische können die Gemeinschaft stärken.\nWas Sie erwartet\nIm Fokus der Veranstaltung steht dabei insbesondere die Rolle von kommunalen Akteurinnen und Akteuren sowie Konsumentinnen und Konsumenten: Wir beleuchten, wie Regionalvermarktung, Ernährungskommunikation und praxisnahe Ernährungsbildung dazu beitragen können, Verbraucherinnen und Verbraucher für regionale Lebensmittel zu gewinnen und sie aktiv in regionale Versorgungsnetzwerke einzubinden. Gleichzeitig zeigen wir, welche Potenziale Orte der Gemeinschaftsverpflegung bieten, um den Zugang zu ausgewogenen und verstärkt regionalen Lebensmitteln zu sichern sowie die Versorgungssicherheit zu verbessern. Ebenso diskutieren wir, auf welche Instrumente Kommunen zurückgreifen können, um lokale und resiliente Ernährungssysteme zu etablieren. \nMehr Informationen

X-ALT-DESC;FMTTYPE=text/html:<!DOCTYPE HTML PUBLIC "-//W3C//DTD HTML 3.2//EN">\n<HTML>\n<HEAD>\n<META NAME="Generator" CONTENT="MS Exchange Server version 08.00.0681.000">\n<TITLE></TITLE>\n</HEAD>\n<BODY>\n<!-- Converted from text/rtf format -->\n\n<p>Ort: Berlin |</p><br /><p>Das Bundesministerium für Landwirtschaft, Ernährung und Heimat (BMLEH) lädt Sie gemeinsam mit dem Bundeszentrum für Ernährung (BZfE) herzlich zum Deutschen Ernährungstag ein. Die Veranstaltung findet am 21. Mai 2026 im Konferenzzentrum Mauerstraße 27,<strong> </strong>Berlin‑Mitte zum Thema „Lokal vernetzt – regionale Ernährung vor Ort aktiv mitgestalten“ statt.</p><br /><p><strong>Warum das Thema jetzt besonders wichtig ist</strong></p><br /><p>Lokale‑regionale Vernetzungs‑ und Versorgungsstrukturen gewinnen an Bedeutung. Sie erhöhen die Resilienz, stärken die Versorgungssicherheit und machen unsere Heimatregionen auch attraktiver. Der direkte Kontakt zu Landwirtschaft und Produktion erhöht zudem die Wertschätzung<strong> </strong>für unsere heimischen Lebensmittel. Lokale Versorgungsnetzwerke wie zum Beispiel Dorfläden, Food-Coops oder Mittagstische können die Gemeinschaft stärken.</p><br /><p><strong>Was Sie erwartet</strong></p><br /><p>Im Fokus der Veranstaltung steht dabei insbesondere die Rolle von kommunalen Akteurinnen und Akteuren sowie Konsumentinnen und Konsumenten<strong>:</strong> Wir beleuchten, wie Regionalvermarktung, Ernährungskommunikation und praxisnahe Ernährungsbildung dazu beitragen können, Verbraucherinnen und Verbraucher für regionale Lebensmittel zu gewinnen und sie aktiv in regionale Versorgungsnetzwerke einzubinden. Gleichzeitig zeigen wir, welche Potenziale Orte der<strong> </strong>Gemeinschaftsverpflegung<strong> </strong>bieten, um den Zugang zu ausgewogenen und verstärkt<strong> </strong>regionalen Lebensmitteln<strong> </strong>zu sichern sowie die Versorgungssicherheit zu verbessern<strong>. </strong>Ebenso diskutieren wir, auf welche Instrumente Kommunen<strong> </strong>zurückgreifen können, um lokale und resiliente Ernährungssysteme zu etablieren. </p><br /><p><strong><a href="https://www.ktmlandingpage.bmleh.de/deutscher-ernaehrungstag/" target="_blank" rel="noopener">Mehr Informationen</a></strong></p>\n\n</BODY>\n</HTML>

LOCATION:
END:VEVENT

END:VCALENDAR
