BEGIN:VCALENDAR
VERSION:2.0
PRODID:-//hacksw/handcal//NONSGML v1.0//EN
BEGIN:VEVENT
UID:822c32d5dd7937a7b8f7ac6daf0b761c
DTSTAMP:20260421T105731Z

DTSTART:20260518T090000
DTEND:20260518T123000
SUMMARY:Mitreden, mitgestalten, mittragen – Bürgerinnen und Bürger für Energiewendeprojekte gewinnen
DESCRIPTION:Ort: Online / Saerbeck\nEine erfolgreiche Bürgerbeteiligung ist für Energiewendeprojekte entscheidend, um Akzeptanz und Vertrauen der Bevölkerung zu stärken. Insbesondere eine frühzeitige Einbindung bietet Vorteile, die für die spätere Umsetzung der Vorhaben entscheidend sein können. Dazu gehört die Nutzung von lokalem Wissen, Reduktion von Widerständen in der Bevölkerung und die Vermeidung von Konflikten.\nEine Besonderheit im Energiesektor ist außerdem die mögliche Motivationssteigerung durch finanzielle oder organisatorische Teilhabe.\nGleichzeitig fördert Beteiligung Transparenz und demokratische Mitgestaltung, sodass die Energiewende sozial, ökologisch und wirtschaftlich erfolgreicher umgesetzt werden kann.\nIm Rahmen dieser Hybridveranstaltung widmen wir uns der Frage, wie Kommunen Bürgerinnen und Bürger in Energieprojekte einbinden können, sodass Akzeptanz entsteht und Projekte über die gesamte Laufzeit getragen werden.\nDie Veranstaltung richtet sich wie immer an Menschen, die das Leben in den kleinen Kommunen in Deutschland mitgestalten – allen voran die Kommunalverwaltung und -politik.\nWas erwartet Sie?\n\nEine Einführung in das Thema informelle Beteiligung mit Blick auf das Thema aus theoretischer und praktischer Sicht\nPraktische Impulse zu den Fragen: Welche (innovativen) Formate kann ich nutzen, um meine lokalen Akteure zu erreichen? Wie kann ich ein Großprojekt erfolgreich mit meinen Bürger:innen umsetzen?\nRaum für Austausch mit Kolleginnen und Kollegen sowie Fachexpertinnen und Fachexperten\n    Für alle Vor-Ort-Teilnehmenden besteht nach einer Mittagspause die Möglichkeit, an einer Exkursion durch den Bioenergiepark teilzunehmen\n\nLernziele: Nach der Veranstaltung\n\nkennen Sie unterschiedliche Formate informeller Beteiligung,\nverstehen Sie, welche Vorteile eine frühzeitige Beteiligung und die Nutzung verschiedener (kreativer) Formate für die Beteiligung der verschiedenen Akteursgruppen bieten,\nkönnen Sie Beteiligung entlang des Projektverlaufs denken und sind in der Lage einen einfachen Kommunikations- und Beteiligungsplan zu erstellen.\n\nVernetzungssteckbrief\nSofern Sie sich über die Veranstaltung hinaus mit anderen Teilnehmenden vernetzen möchten, können Sie den nachfolgenden Vernetzungssteckbrief ausfüllen und an die angegebene Mail-Adresse zurücksenden. Einige Tage nach Abschluss der Veranstaltung wird die Sammlung der Steckbriefe unter den Einreichenden zur Verfügung gestellt. Mit der Zusendung des Steckbriefs erklären Sie sich mit der Verteilung der Informationen einverstanden\n Mehr Informationen

X-ALT-DESC;FMTTYPE=text/html:<!DOCTYPE HTML PUBLIC "-//W3C//DTD HTML 3.2//EN">\n<HTML>\n<HEAD>\n<META NAME="Generator" CONTENT="MS Exchange Server version 08.00.0681.000">\n<TITLE></TITLE>\n</HEAD>\n<BODY>\n<!-- Converted from text/rtf format -->\n\n<p>Ort: Online / Saerbeck</p><br /><p>Eine erfolgreiche Bürgerbeteiligung ist für Energiewendeprojekte entscheidend, um Akzeptanz und Vertrauen der Bevölkerung zu stärken. Insbesondere eine frühzeitige Einbindung bietet Vorteile, die für die spätere Umsetzung der Vorhaben entscheidend sein können. Dazu gehört die Nutzung von lokalem Wissen, Reduktion von Widerständen in der Bevölkerung und die Vermeidung von Konflikten.</p><br /><p>Eine Besonderheit im Energiesektor ist außerdem die mögliche Motivationssteigerung durch finanzielle oder organisatorische Teilhabe.</p><br /><p>Gleichzeitig fördert Beteiligung Transparenz und demokratische Mitgestaltung, sodass die Energiewende sozial, ökologisch und wirtschaftlich erfolgreicher umgesetzt werden kann.</p><br /><p>Im Rahmen dieser Hybridveranstaltung widmen wir uns der Frage, <strong>wie Kommunen Bürgerinnen und Bürger in Energieprojekte einbinden können</strong>, sodass Akzeptanz entsteht und Projekte über die gesamte Laufzeit getragen werden.</p><br /><p>Die Veranstaltung richtet sich wie immer an Menschen, die das Leben in den kleinen Kommunen in Deutschland mitgestalten – allen voran die Kommunalverwaltung und -politik.</p><br /><p><strong>Was erwartet Sie?</strong></p><br /><ul><br /><li>Eine Einführung in das Thema informelle Beteiligung mit Blick auf das Thema aus theoretischer und praktischer Sicht</li><br /><li>Praktische Impulse zu den Fragen: Welche (innovativen) Formate kann ich nutzen, um meine lokalen Akteure zu erreichen? Wie kann ich ein Großprojekt erfolgreich mit meinen Bürger:innen umsetzen?</li><br /><li>Raum für Austausch mit Kolleginnen und Kollegen sowie Fachexpertinnen und Fachexperten</li><br /><li>    Für alle Vor-Ort-Teilnehmenden besteht nach einer Mittagspause die Möglichkeit, an einer Exkursion durch den Bioenergiepark teilzunehmen</li><br /></ul><br /><p><strong>Lernziele: Nach der Veranstaltung</strong></p><br /><ul><br /><li>kennen Sie unterschiedliche Formate informeller Beteiligung,</li><br /><li>verstehen Sie, welche Vorteile eine frühzeitige Beteiligung und die Nutzung verschiedener (kreativer) Formate für die Beteiligung der verschiedenen Akteursgruppen bieten,</li><br /><li>können Sie Beteiligung entlang des Projektverlaufs denken und sind in der Lage einen einfachen Kommunikations- und Beteiligungsplan zu erstellen.</li><br /></ul><br /><p><strong>Vernetzungssteckbrief</strong></p><br /><p>Sofern Sie sich über die Veranstaltung hinaus mit anderen Teilnehmenden vernetzen möchten, können Sie den nachfolgenden Vernetzungssteckbrief ausfüllen und an die angegebene Mail-Adresse zurücksenden. Einige Tage nach Abschluss der Veranstaltung wird die Sammlung der Steckbriefe unter den Einreichenden zur Verfügung gestellt. Mit der Zusendung des Steckbriefs erklären Sie sich mit der Verteilung der Informationen einverstanden</p><br /><p><strong><a href="https://buleplus-energiewende.de/event/mitreden-mitgestalten-mittragen-buergerinnen-und-buerger-fuer-energiewendeprojekte-gewinnen/" target="_blank" rel="noopener"> Mehr Informationen</a></strong></p>\n\n</BODY>\n</HTML>

LOCATION:Saerbeck, Kreis Steinfurt, Nordrhein-Westfalen, 48369, Deutschland
END:VEVENT

END:VCALENDAR
